BEGIN:VCALENDAR
PRODID:NingEventWidget-v1
VERSION:2.0
METHOD:PUBLISH
BEGIN:VTIMEZONE
TZID:Europe/London
X-LIC-LOCATION:Europe/London
BEGIN:DAYLIGHT
TZOFFSETFROM:+0000
TZOFFSETTO:+0100
TZNAME:BST
DTSTART:19700329T010000
RRULE:FREQ=YEARLY;BYMONTH=3;BYDAY=-1SU
END:DAYLIGHT
BEGIN:STANDARD
TZOFFSETFROM:+0100
TZOFFSETTO:+0000
TZNAME:GMT
DTSTART:19701025T020000
RRULE:FREQ=YEARLY;BYMONTH=10;BYDAY=-1SU
END:STANDARD
END:VTIMEZONE
BEGIN:VEVENT
UID:2053992:Event:74403
DTSTAMP:20260422T145006Z
SUMMARY:Norrland Star Party 2017 - JUBILEUM
DESCRIPTION:Årets stjärnträff i Norra Sveriges AmatörAstronomer, N
 SP 17\n\nFör ytterligare information, gå in på https://nsaaforum.ni
 ng.com/events/norrland-star-party-2017-jubileum
DTSTART;TZID=Europe/London:20170922T180000
DTEND;TZID=Europe/London:20170924T110000
CATEGORIES:star, party
LOCATION:Brändö Konferens
WEBSITE:http://www.brandokonferens.se/
URL:http://www.brandokonferens.se/
CONTACT:070-583 3216
ORGANIZER;CN="Ulf Jonsson":https://nsaaforum.ning.com/profile/UlfJonss
 on
ATTACH;FMTTYPE="image/jpeg":http://storage.ning.com/topology/rest/1.0/
 file/get/2559567497?profile=original
ATTENDEE;ROLE=REQ-PARTICIPANT;PARTSTAT=ACCEPTED;RSVP=TRUE;CN="Annika N
 ilsson":https://nsaaforum.ning.com/profile/AnnikaNilsson
ATTENDEE;ROLE=REQ-PARTICIPANT;PARTSTAT=ACCEPTED;RSVP=TRUE;CN="Leon Kam
 mer":https://nsaaforum.ning.com/profile/LeonKammer
ATTENDEE;ROLE=REQ-PARTICIPANT;PARTSTAT=ACCEPTED;RSVP=TRUE;CN=Urban:htt
 ps://nsaaforum.ning.com/profile/Urban
ATTENDEE;ROLE=REQ-PARTICIPANT;PARTSTAT=ACCEPTED;RSVP=TRUE;CN="Per Joha
 nsson":https://nsaaforum.ning.com/profile/PerJohansson
ATTENDEE;ROLE=REQ-PARTICIPANT;PARTSTAT=ACCEPTED;RSVP=TRUE;CN="Mats Ols
 son":https://nsaaforum.ning.com/profile/MatsOlsson
ATTENDEE;ROLE=REQ-PARTICIPANT;PARTSTAT=ACCEPTED;RSVP=TRUE;CN="Patric J
 ohansson":https://nsaaforum.ning.com/profile/PatricJohansson
ATTENDEE;ROLE=REQ-PARTICIPANT;PARTSTAT=ACCEPTED;RSVP=TRUE;CN="Ulf Jons
 son":https://nsaaforum.ning.com/profile/UlfJonsson
ATTENDEE;ROLE=REQ-PARTICIPANT;PARTSTAT=TENTATIVE;RSVP=TRUE;CN="Lage Sj
 öblom":https://nsaaforum.ning.com/profile/Lage
ATTENDEE;ROLE=REQ-PARTICIPANT;PARTSTAT=TENTATIVE;RSVP=TRUE;CN="Christe
 r Olofsson":https://nsaaforum.ning.com/profile/ChristerOlofsson
END:VEVENT
END:VCALENDAR
